BEGIN:VCALENDAR
VERSION:2.0
PRODID:-// - ECPv6.15.20//NONSGML v1.0//EN
CALSCALE:GREGORIAN
METHOD:PUBLISH
X-ORIGINAL-URL:https://raisingoakshomestead.com
X-WR-CALDESC:Events for 
REFRESH-INTERVAL;VALUE=DURATION:PT1H
X-Robots-Tag:noindex
X-PUBLISHED-TTL:PT1H
BEGIN:VTIMEZONE
TZID:UTC
BEGIN:STANDARD
TZOFFSETFROM:+0000
TZOFFSETTO:+0000
TZNAME:UTC
DTSTART:20250101T000000
END:STANDARD
END:VTIMEZONE
BEGIN:VEVENT
DTSTART;TZID=UTC:20260123T150000
DTEND;TZID=UTC:20260124T180000
DTSTAMP:20260425T203300
CREATED:20260118T183827Z
LAST-MODIFIED:20260118T183827Z
UID:1449-1769180400-1769277600@raisingoakshomestead.com
SUMMARY:Something Extra Special
DESCRIPTION:There’s something extra special about a week when the ovens are full and the menu is stacked with all of our favorites — and this one is exactly that. \nThis week at Raising Oaks Homestead\, we’re offering all of our signature breads\, baked fresh with freshly milled whole grains\, long-fermented sourdough\, and simple\, wholesome ingredients. Every loaf is made the same way I bake for my own family — slow\, intentional\, and nourishing. \nAnd yes… we’re also bringing back a favorite treat you don’t want to miss. \n🍞 Our Full Bread Menu \nYou’ll find all of our classic sourdough loaves\, made with freshly milled grain and naturally fermented for better digestion and flavor: \n\nClassic White Sourdough $10\nWhole Grain Sourdough $10\nSpecialty & Seasonal Loaf ; Banana Bread $10\nFamily-favorite sandwich bread\, Honey Wheat $8\n\n🍪 Chocolate Chip Bliss Cookies (Made with Ancient Kamut!) \nThese are not your average chocolate chip cookies. \nOur Chocolate Chip Bliss Cookies are made with ancient Kamut wheat\, an heirloom grain known for its rich\, buttery flavor and easier digestibility. The result? \nA soft\, golden cookie with crisp edges\, melty chocolate\, and a depth of flavor you just can’t get from modern flour. \nThey’re: \n✔ Made with freshly milled Kamut \n✔ Naturally rich and satisfying \n✔ Perfect with coffee\, milk\, or tucked into lunchboxes \nThey never last long — fair warning. \n🌾 Why We Bake This Way \nAt Raising Oaks Homestead\, we believe food should nourish both body and home. That’s why we: \n\nMill our own grains fresh\nAvoid shortcuts and preservatives\nUse time-honored sourdough methods\nBake in small batches with care\n\nThis isn’t factory bread. It’s real food\, made with intention. \n📍 How to Order \nQuantities are limited and everything is baked fresh\, so be sure to grab yours before we sell out. \n👉 Order through our shop while it’s open \n👉 Pickup details listed on the menu \n👉 First come\, first served \nThank you for supporting our little homestead and allowing us to bake for your family. We can’t wait to share this week’s bread with you 🤍
URL:https://raisingoakshomestead.com/event/something-extra-special/
LOCATION:Raising Oaks Homestead\, 911 Daniel Dr.\, Seymour\, TN\, 37865\, United States
CATEGORIES:Farm Stand
ATTACH;FMTTYPE=image/jpeg:https://raisingoakshomestead.com/wp-content/uploads/2026/01/IMG_6325-scaled.jpeg
ORGANIZER;CN="Tiffany":MAILTO:raisingoakshomestead@gmail.com
END:VEVENT
END:VCALENDAR