BEGIN:VCALENDAR
VERSION:2.0
PRODID:-// - ECPv6.15.20//NONSGML v1.0//EN
CALSCALE:GREGORIAN
METHOD:PUBLISH
X-ORIGINAL-URL:https://raisingoakshomestead.com
X-WR-CALDESC:Events for 
REFRESH-INTERVAL;VALUE=DURATION:PT1H
X-Robots-Tag:noindex
X-PUBLISHED-TTL:PT1H
BEGIN:VTIMEZONE
TZID:UTC
BEGIN:STANDARD
TZOFFSETFROM:+0000
TZOFFSETTO:+0000
TZNAME:UTC
DTSTART:20240101T000000
END:STANDARD
END:VTIMEZONE
BEGIN:VEVENT
DTSTART;TZID=UTC:20250725T140000
DTEND;TZID=UTC:20250726T190000
DTSTAMP:20260426T023257
CREATED:20250721T015903Z
LAST-MODIFIED:20250721T015903Z
UID:1256-1753452000-1753556400@raisingoakshomestead.com
SUMMARY:Freshly Milled Sourdough Cinnamon Rolls
DESCRIPTION:This Week’s Fresh bakes from the Homestead including freshly milled sourdough cinnamon rolls! \nTake note\, we will trying a new thing! We be open a day early this week! Our new open day is Friday from 2-7pm as well as Sat from 9-7pm. \nThere’s something sweet about summer rhythms—early garden walks\, sun-warmed berries\, and fresh loaves cooling on the counter. This week’s menu is a bit if heaven straight from our farmhouse kitchen. \nWe’re baking up our soft and hearty Classic White Sourdough Loaves\, perfect for BLTs\, toast\, or grilled cheese on the porch. Our Honey Wheat Sandwich Loaves are back as well—made with freshly milled grains and just the right amount of sweetness. And for those who like a little swirl of something special\, don’t miss the Cinnamon Raisin Honey Wheat\, rolled with butter\, brown sugar\, cinnamon\, and juicy raisins for a nostalgic breakfast or afternoon treat. \nOn the sweeter side\, we’re bringing out two favorites that never last long: Sourdough Cinnamon Rolls and Cinnamon Raisin Bread. Both amazing with your morning coffee or an afternoon treat. \nWhether you’re stocking up for the week or grabbing a few treats for weekend guests\, this spread was made for easy summer moments and full hearts. Pre-order here. If you’re curious what else our Homestead has to offer you can check out our other services here.  \nWe accept cash\, Venmo and PayPal via the QR codes on the farm stand. We take pre-orders and make extra for drive ups. We are open Friday from 2pm – 7pm. And Sat 9am-7pm. We hope you enjoy our small batch bakes!  \nFrom our family to yours—enjoy the slower days\, soak up the sunshine\, and treat yourself to something homemade.
URL:https://raisingoakshomestead.com/event/freshly-milled-sourdough-cinnamon-rolls/
LOCATION:Raising Oaks Homestead\, 911 Daniel Dr.\, Seymour\, TN\, 37865\, United States
CATEGORIES:Farm Stand
ATTACH;FMTTYPE=image/jpeg:https://raisingoakshomestead.com/wp-content/uploads/2025/04/IMG_8902_jpg-scaled.jpeg
ORGANIZER;CN="Tiffany":MAILTO:raisingoakshomestead@gmail.com
END:VEVENT
END:VCALENDAR