BEGIN:VCALENDAR
VERSION:2.0
PRODID:-// - ECPv6.15.20//NONSGML v1.0//EN
CALSCALE:GREGORIAN
METHOD:PUBLISH
X-ORIGINAL-URL:https://raisingoakshomestead.com
X-WR-CALDESC:Events for 
REFRESH-INTERVAL;VALUE=DURATION:PT1H
X-Robots-Tag:noindex
X-PUBLISHED-TTL:PT1H
BEGIN:VTIMEZONE
TZID:UTC
BEGIN:STANDARD
TZOFFSETFROM:+0000
TZOFFSETTO:+0000
TZNAME:UTC
DTSTART:20240101T000000
END:STANDARD
END:VTIMEZONE
BEGIN:VEVENT
DTSTART;TZID=UTC:20251205T150000
DTEND;TZID=UTC:20251206T180000
DTSTAMP:20260425T195815
CREATED:20251130T221452Z
LAST-MODIFIED:20251130T221740Z
UID:1393-1764946800-1765044000@raisingoakshomestead.com
SUMMARY:Scones & Rolls
DESCRIPTION:Enjoy some scones and rolls from us the weekend after Thanksgiving. This weekend has a rhythm all its own. The big meal is behind us\, the dishes are finally done\, and the last of the leftovers are tucked away. Families are easing back into normal life while slowly stepping into December—pulling out Christmas decorations\, planning small gatherings\, attending local events\, and settling into the first true days of the holiday season. \nIt’s a weekend when everyone is hungry for real food again… but no one wants to spend hours in the kitchen. \nThat’s why this week’s menu is built around simple\, fresh\, homemade staples your family can enjoy without any extra work. \nBefore I share the menu\, I want to say something important: \nWe are truly thankful for you. \nYour support\, your kind words\, your excitement over our bakes\, and your steady presence at our little farm stand mean more than you know. Every loaf we bake\, every roll we shape\, every jar of popcorn we seal—it’s all done with gratitude for the families who choose to bring Raising Oaks into their homes. Thank you for letting us be part of your weekends and your celebrations. It is a gift we don’t take lightly. \nNow\, here’s what we’re preparing fresh for you this weekend: \nFresh-Milled Sourdough Loaves \nAll our classic loaves will be available—made with freshly milled grains\, long fermentation\, and the same recipe you’ve grown to love. These are the breads families depend on for soup nights\, sandwiches\, toast\, and easy meals after a long holiday week. \nHawaiian Rolls \nSoft\, lightly sweet\, and absolutely delicious. These rolls are perfect for leftover turkey\, sliders\, ham sandwiches\, or an easy dinner side. We’re using freshly milled whole grains to give them amazing flavor and texture. \nCranberry Orange Scones \nBright citrus meets tart cranberry for a breakfast that feels fresh and uplifting. These scones are perfect for slow mornings\, tree decorating\, or hosting weekend guests. \nPumpkin Spice Bread \nA tender\, warmly spiced loaf that’s not too sweet but full of flavor. Great for breakfast\, snacks\, or as a treat with coffee or tea. Even though Thanksgiving is over\, pumpkin season is still going strong. \nCaramel Popcorn \nCrispy\, buttery\, and sweet—our caramel popcorn is one of the easiest ways to make a family night special. Perfect for movies\, Christmas lights drives\, or gifting. \nEverything is made from scratch with quality ingredients and the care we put into every Raising Oaks bake. Quantities are limited\, and pre-orders help ensure you get exactly what you want. \nThank you again for supporting our homestead\, for showing up week after week\, and for allowing us to serve your families with real food made with love. We’re grateful for you\, and we can’t wait to bake for you this weekend. \nPre-orders are open now—reserve your favorites and we’ll have them ready for you at the homestead.
URL:https://raisingoakshomestead.com/event/scones-rolls/
LOCATION:Raising Oaks Homestead\, 911 Daniel Dr.\, Seymour\, TN\, 37865\, United States
CATEGORIES:Farm Stand
ATTACH;FMTTYPE=image/jpeg:https://raisingoakshomestead.com/wp-content/uploads/2025/11/IMG_7030_jpg-scaled.jpeg
ORGANIZER;CN="Tiffany":MAILTO:raisingoakshomestead@gmail.com
END:VEVENT
BEGIN:VEVENT
DTSTART;TZID=UTC:20251206T090000
DTEND;TZID=UTC:20251206T150000
DTSTAMP:20260425T195815
CREATED:20251123T222552Z
LAST-MODIFIED:20251123T222552Z
UID:1372-1765011600-1765033200@raisingoakshomestead.com
SUMMARY:Heritage Christmas Market
DESCRIPTION:We’re excited to share that Raising Oaks Homestead will be a vendor at this year’s Heritage Christmas Market for FFA Alumni & Supporters! Mark your calendars\, gather the family\, and come enjoy a festive Saturday filled with gifts\, crafts\, handmade goods\, and delicious food. \n📅 Event Details \nDate: December 6th \nTime: 9 AM–3 PM \nLocation: Heritage High School Commons Area \nHosted by: Heritage FFA Alumni & Supporters \nThis market supports the hardworking HHS agriculture students\, and we’re honored to be part of an event that pours back into the ag community. \nWhat We’re Bringing \n🥖 Fresh-Milled Whole Grain Sourdough \nOur signature loaves—soft\, deeply flavored\, fermented for better digestion\, and baked fresh that morning. Perfect for weekend breakfasts or gifting to a sourdough-loving friend. \n🍪 Cookies for the Holidays \nSoft\, buttery\, from-scratch cookies made with organic ingredients. We’ll have crowd favorites and seasonal flavors ready for snacking or bringing to gatherings. \n🍂 Pumpkin Bread \nMoist\, warmly spiced\, and made with real pumpkin. It’s the kind of holiday comfort food that disappears fast. \n🍿 Caramel Popcorn \nHand-stirred\, crisp\, buttery caramel popcorn packaged beautifully for gifting\, stocking stuffers\, teacher treats\, or enjoying right as you walk the market. \nWhy You Should Come \nThe Christmas Market is always full of local makers\, small businesses\, and farm families—people who care deeply about quality and craftsmanship. It’s the perfect place to shop small\, support students\, and fill your home with handmade goods. \nWe’d love to see familiar faces and meet new ones\, so come stop by our table and take home something warm\, sweet\, and made from scratch here at Raising Oaks Homestead. \nSee you on December 6th! 🎄
URL:https://raisingoakshomestead.com/event/heritage-christmas-market/
LOCATION:Heritage High School\, 3741 Lamar Alexander Parkway\, Maryville\, TN\, 37804\, United States
CATEGORIES:Makers Markets
ATTACH;FMTTYPE=image/jpeg:https://raisingoakshomestead.com/wp-content/uploads/2025/11/IMG_5296.jpeg
ORGANIZER;CN="Tiffany":MAILTO:raisingoakshomestead@gmail.com
END:VEVENT
BEGIN:VEVENT
DTSTART;TZID=UTC:20251213T150000
DTEND;TZID=UTC:20251213T170000
DTSTAMP:20260425T195815
CREATED:20251123T224440Z
LAST-MODIFIED:20251123T224645Z
UID:1378-1765638000-1765645200@raisingoakshomestead.com
SUMMARY:Seymour Christmas Parade
DESCRIPTION:We are so excited to share that Raising Oaks Homestead will be part of the Seymour Christmas Parade this year! Mark your calendars\, bring the whole family\, and come celebrate one of the sweetest small-town traditions of the season. \n📅 Event Details \nDate: December 13th \nTime: Parade begins at 3:00 PM \nLocation: Seymour\, TN \n\nThe Parade travels in southbound lanes of Chapman Hwy. from Valley Grove to Macon Crossing (Kroger)\n\nThere’s nothing like a hometown Christmas parade—lights twinkling\, kids cheering\, families waving\, and neighbors coming together to celebrate the joy of the season. \nOur Float This Year \nWe’re bringing the spirit of the homestead right to the parade route! You’ll see our float decorated in classic Raising Oaks style—simple\, warm\, and timeless. Expect festive touches\, a few fun surprises\, and of course the heart behind everything we do: family\, community\, and real\, homemade goodness. \nOur kids are thrilled to be a part of it\, and we can’t wait to wave to familiar faces as we roll through town. \nWhy We Love This Tradition \nThe Seymour Christmas Parade is one of our favorite community events. It’s a chance to slow down\, share the joy of the holidays with friends and neighbors\, and support the local groups and families that make our town feel like home. \nWe’re honored to participate—and even more excited to celebrate with all of you. \nCome Celebrate With Us! \nBundle up\, grab some hot cocoa\, find a good spot along the route\, and enjoy an afternoon of Christmas fun. We’ll be looking for you and waving big! \nSee you at 3 PM on December 13th in Seymour! 🎄❤️
URL:https://raisingoakshomestead.com/event/seymour-christmas-parade/
LOCATION:TN
CATEGORIES:Parade
ATTACH;FMTTYPE=image/png:https://raisingoakshomestead.com/wp-content/uploads/2025/11/Green-White-Simple-Merry-Christmas-Flyer-A4.png
ORGANIZER;CN="Tiffany":MAILTO:raisingoakshomestead@gmail.com
END:VEVENT
END:VCALENDAR